BEGIN:VCALENDAR
VERSION:2.0
PRODID:Events Booking
BEGIN:VEVENT
UID:69e8fb72ccafd
SUMMARY:Past Event - January Luncheon (Virtual Only) - Networking as a Stra
 tegic Project Management Resource
DESCRIPTION:1 Power Skills PDU
DTSTART:20230117T164500Z
DTEND:20230117T180000Z
DTSTAMP:20260422T164642Z
ORGANIZER;CN=PMI Kentuckiana Chapter:MAILTO:programs@kipmi.org
END:VEVENT
END:VCALENDAR