BEGIN:VCALENDAR
VERSION:2.0
PRODID:Events Booking
BEGIN:VEVENT
UID:69e91218a35da
SUMMARY:Past Event - October Luncheon (Virtual) - Grow! From Pains to Gains
  Keynote
DESCRIPTION:1 Power Skills PDU 
DTSTART:20221018T153000Z
DTEND:20221018T170000Z
DTSTAMP:20260422T182320Z
ORGANIZER;CN=PMI Kentuckiana Chapter:MAILTO:programs@kipmi.org
END:VEVENT
END:VCALENDAR