BEGIN:VCALENDAR
VERSION:2.0
PRODID:Events Booking
BEGIN:VEVENT
UID:69e8f6ab45627
SUMMARY:Past Event - February 2023 Luncheon (In-Person/Virtual) - Leading C
 hange
DESCRIPTION:1 Business Acumen PDU
 John Kotter’s legendary eight-step pr
 ocess for managing change with positive results has become the foundation 
 for leaders and organizations across the globe. We will take these concept
 s and apply them more to the micro-level - our projects. As a Project Mana
 ger\, you are uniquely positioned to ensure that organizational change man
 agement is happening at least on your project. Join us to discuss why this
  is important and how to use Kotter's process to achieve this.
LOCATION:450 N Whittington Pkwy\, Louisville\, KY 40222
DTSTART:20230221T163000Z
DTEND:20230221T180000Z
DTSTAMP:20260422T162619Z
ORGANIZER;CN=PMI Kentuckiana Chapter:MAILTO:programs@kipmi.org
GEO:38.25415;-85.582915
X-APPLE-STRUCTURED-LOCATION;VALUE=URI;X-ADDRESS=450 N Whittington Pkwy\, Lo
 uisville\, KY 40222;X-APPLE-RADIUS=72;X-TITLE=UofL Shelby Campus - Founder
 s Union Hall:38.25415;-85.582915
END:VEVENT
END:VCALENDAR