BEGIN:VCALENDAR
VERSION:2.0
PRODID:Events Booking
BEGIN:VEVENT
UID:69e8df1199743
SUMMARY:Past Event - New Member Orientation - Virtual
DESCRIPTION:&nbsp\;
 The primary goal of this virtual orientation is to gi
 ve our new members the opportunity to ask Steve Bernheisel\, Vice Presiden
 t of Membership and Charles Snyder\, Chapter President\, questions about t
 he benefits you are entitled to as a member of the Kentuckiana PMI chapter
 . We will have a brief agenda prepared as well to help guide the discussio
 n. We’ll do our best to answer your questions in real-time\, and if we a
 re stumped by any of them\, we’ll research and then get back to you foll
 owing the call.&nbsp\; 
 If you have not already received an email invita
 tion to attend\, please email membership@kipmi.org&nbsp\;and we will send 
 you an invitation to the Zoom meeting.
DTSTART:20230314T163000Z
DTEND:20230314T170000Z
DTSTAMP:20260422T144537Z
ORGANIZER;CN=PMI Kentuckiana Chapter:MAILTO:programs@kipmi.org
END:VEVENT
END:VCALENDAR