BEGIN:VCALENDAR
VERSION:2.0
PRODID:Events Booking
BEGIN:VEVENT
UID:69e8df81b04d8
SUMMARY:Past Event - 2nd Annual Kentuckiana Bridges Congress (In Person)
DESCRIPTION:
 
 Productive Conflict Workshop 3 Business Acumen PDUs
 
 
 
 Grow! From Pains to Gains Keynote (monthly luncheon) 1 Power Skills PDU
 
 
 
 There is an \"I\" in Team: Lead with Impact! Workshop 3.5 Power S
 kills PDUs
 
 
 &nbsp\;
 &nbsp\;
 &nbsp\;
 
LOCATION:440 N Hurstbourne Pkwy\, Louisville\, KY 40222
DTSTART:20221018T123000Z
DTEND:20221018T203000Z
DTSTAMP:20260422T144729Z
ORGANIZER;CN=PMI Kentuckiana Chapter:MAILTO:programs@kipmi.org
GEO:38.253433;-85.584129
X-APPLE-STRUCTURED-LOCATION;VALUE=URI;X-ADDRESS=440 N Hurstbourne Pkwy\, Lo
 uisville\, KY 40222;X-APPLE-RADIUS=72;X-TITLE=UofL Shelby Campus - Burhans
  Hall:38.253433;-85.584129
END:VEVENT
END:VCALENDAR