BEGIN:VCALENDAR
VERSION:2.0
PRODID:Events Booking
BEGIN:VEVENT
UID:69e8df8c6580c
SUMMARY:Past Event - KIPMI 2022 (In Person) Out of This World Holiday Party
 !
DESCRIPTION:Earn 1 Power Skill PDU
LOCATION: USA
DTSTART:20221216T223000Z
DTEND:20221217T023000Z
DTSTAMP:20260422T144740Z
ORGANIZER;CN=PMI Kentuckiana Chapter:MAILTO:programs@kipmi.org
GEO:106;0
X-APPLE-STRUCTURED-LOCATION;VALUE=URI;X-ADDRESS= USA;X-APPLE-RADIUS=72;X-TI
 TLE=U of L Rauch Planetarium :106;0
END:VEVENT
END:VCALENDAR