BEGIN:VCALENDAR
VERSION:2.0
PRODID:Events Booking
BEGIN:VEVENT
UID:69e8df2f36fff
SUMMARY:Past Event - November Luncheon (In Person/Virtual) - The Role of Da
 ring Leaders in Project Management
DESCRIPTION:1 Power Skills PDU 
LOCATION:440 N Hurstbourne Pkwy\, Louisville\, KY 40222\, USA
DTSTART:20221115T163000Z
DTEND:20221115T180000Z
DTSTAMP:20260422T144607Z
ORGANIZER;CN=PMI Kentuckiana Chapter:MAILTO:programs@kipmi.org
GEO:38.253433;-85.584129
X-APPLE-STRUCTURED-LOCATION;VALUE=URI;X-ADDRESS=440 N Hurstbourne Pkwy\, Lo
 uisville\, KY 40222\, USA;X-APPLE-RADIUS=72;X-TITLE=UofL Shelby Campus - B
 urhans Hall:38.253433;-85.584129
END:VEVENT
END:VCALENDAR