BEGIN:VCALENDAR
VERSION:2.0
PRODID:Events Booking
BEGIN:VEVENT
UID:69e8f79f15966
SUMMARY:Past Event - ProjectBites Live! (Virtual) The Project Coach / Maste
 ring the People Side of Project Management
DESCRIPTION:1 Power Skills PDU
DTSTART:20221006T160000Z
DTEND:20221006T170000Z
DTSTAMP:20260422T163023Z
ORGANIZER;CN=PMI Kentuckiana Chapter:MAILTO:programs@kipmi.org
END:VEVENT
END:VCALENDAR